View In:
ArcMap
Google Earth
ArcGIS JavaScript
ArcGIS.com Map
View Footprint In:
Google Earth
Service Description:
Name: Orthoimagery/US_CANADA_Border_Orthoimagery
Description:
Extent:
XMin: -13894697.098
YMin: 5045036.126
XMax: -7415974.4148
YMax: 6367463.425
Spatial Reference: 102113
Pixel Size X: 0.299999989960984
Pixel Size Y: 0.299999999773145
Band Count: 3
Pixel Type: U8
Min Pixel Size: 0
Maximum Pixel Size: 0
Copyright Text:
Service Data Type: esriImageServiceDataTypeRGB
Min Values:
Max Values:
Mean Values:
Standard Deviation Values:
Object ID Field: OBJECTID
Fields:
- OBJECTID (Type: esriFieldTypeOID, Alias: OBJECTID)
- Shape (Type: esriFieldTypeGeometry, Alias: Shape)
- Name (Type: esriFieldTypeString, Alias: Name)
- MinPS (Type: esriFieldTypeDouble, Alias: MinPS)
- MaxPS (Type: esriFieldTypeDouble, Alias: MaxPS)
- LowPS (Type: esriFieldTypeDouble, Alias: LowPS)
- HighPS (Type: esriFieldTypeDouble, Alias: HighPS)
- Category (Type: esriFieldTypeInteger, Alias: Category)
- Tag (Type: esriFieldTypeString, Alias: Tag)
- GroupName (Type: esriFieldTypeString, Alias: GroupName)
- ProductName (Type: esriFieldTypeString, Alias: ProductName)
- CenterX (Type: esriFieldTypeDouble, Alias: CenterX)
- CenterY (Type: esriFieldTypeDouble, Alias: CenterY)
- ZOrder (Type: esriFieldTypeInteger, Alias: ZOrder)
- SOrder (Type: esriFieldTypeInteger, Alias: SOrder)
- StereoID (Type: esriFieldTypeString, Alias: StereoID)
- Shape_Length (Type: esriFieldTypeDouble, Alias: Shape_Length)
- Shape_Area (Type: esriFieldTypeDouble, Alias: Shape_Area)
Supported Interfaces:
REST
SOAP
WMS
Supported Operations:
Export Image
Query
Identify
Download